BEGIN:VCALENDAR
VERSION:2.0
PRODID:-//Plone.org//NONSGML plone.app.event//EN
X-WR-TIMEZONE:US/Eastern
BEGIN:VEVENT
SUMMARY:"Mentorship Can Be Life Changing"
DTSTART;TZID=US/Eastern:20260521T180000
DTEND;TZID=US/Eastern:20260521T190000
DTSTAMP:20260423T072236Z
UID:8099f818cb084ae88f57ee3869259528@saas_stack_varnish:6080
CATEGORIES:James Earl Jones,Membership Can Be Life Changing Sculpture,Dona
 ld Crouch,The Arts and Culture Alliance of Manistee County,Brethren High 
 School
CONTACT:Library Staff\, 231-378-2716\, bvdlibrary@acegroup.cc\, https://ww
 w.betsievalleydistrictlibrary.org/news-events/mentorship-can-be-life-chang
 ing
CREATED:20260313T180713Z
DESCRIPTION:The story of the commemorative sculpture of James Earl Jones a
 nd His high school English teacher\, Donald Crouch. Learn more about this 
 project at the Betsie Valley District Library\, as presented by Cindy Asia
 la\, President of The Arts and Culture Alliance of Manistee County.
LAST-MODIFIED:20260313T181001Z
LOCATION:14744 Thompson Ave.\, Thompsonville\, MI 49683
URL:https://www.betsievalleydistrictlibrary.org/news-events/mentorship-can
 -be-life-changing-1
END:VEVENT
BEGIN:VTIMEZONE
TZID:US/Eastern
X-LIC-LOCATION:US/Eastern
BEGIN:DAYLIGHT
DTSTART:20260308T030000
TZNAME:EDT
TZOFFSETFROM:-0500
TZOFFSETTO:-0400
END:DAYLIGHT
END:VTIMEZONE
END:VCALENDAR
